BEGIN:VCALENDAR
VERSION:2.0
PRODID:icalendar-ruby
CALSCALE:GREGORIAN
METHOD:PUBLISH
BEGIN:VEVENT
DTSTAMP:20260419T225651Z
UID:9-333289@shilohchurchofchrist.net
DTSTART:20260913T183000Z
DTEND:20260913T193000Z
CLASS:PUBLIC
CREATED:20260419T160222
DESCRIPTION:Our Sunday afternoon worship begins with songs of praise to our
  Lord followed by another great message.
LAST-MODIFIED:20260419T160222
LOCATION:Shiloh Church of Christ
SUMMARY:Sunday Afternoon Worship
URL;VALUE=URI:https://shilohchurchofchrist.net/events/sunday-afternoon-wors
 hip/2026-09-13
END:VEVENT
END:VCALENDAR
