BEGIN:VCALENDAR
VERSION:2.0
PRODID:icalendar-ruby
CALSCALE:GREGORIAN
METHOD:PUBLISH
BEGIN:VEVENT
DTSTAMP:20260420T055917Z
UID:9-333717@shilohchurchofchrist.net
DTSTART:20261011T183000Z
DTEND:20261011T193000Z
CLASS:PUBLIC
CREATED:20260419T232106
DESCRIPTION:Our Sunday afternoon worship begins with songs of praise to our
  Lord followed by another great message.
LAST-MODIFIED:20260419T232106
LOCATION:Shiloh Church of Christ
SUMMARY:Sunday Afternoon Worship
URL;VALUE=URI:https://shilohchurchofchrist.net/events/sunday-afternoon-wors
 hip/2026-10-11
END:VEVENT
END:VCALENDAR
