BEGIN:VCALENDAR
VERSION:2.0
PRODID:icalendar-ruby
CALSCALE:GREGORIAN
METHOD:PUBLISH
BEGIN:VEVENT
DTSTAMP:20260422T110018Z
UID:9-336476@shilohchurchofchrist.net
DTSTART:20261101T193000Z
DTEND:20261101T203000Z
CLASS:PUBLIC
CREATED:20260421T204113
DESCRIPTION:Our Sunday afternoon worship begins with songs of praise to our
  Lord followed by another great message.
LAST-MODIFIED:20260421T204113
LOCATION:Shiloh Church of Christ
SUMMARY:Sunday Afternoon Worship
URL;VALUE=URI:https://shilohchurchofchrist.net/events/sunday-afternoon-wors
 hip/2026-11-01
END:VEVENT
END:VCALENDAR
