BEGIN:VCALENDAR
VERSION:2.0
PRODID:icalendar-ruby
CALSCALE:GREGORIAN
METHOD:PUBLISH
BEGIN:VEVENT
DTSTAMP:20260423T102757Z
UID:6-337635@shilohchurchofchrist.net
DTSTART:20260823T140000Z
DTEND:20260823T150000Z
CLASS:PUBLIC
CREATED:20260422T222121
DESCRIPTION:Come join us for our Sunday morning worship!  We begin worship
  at 9am with Sunday School Classes to follow at 10am.  We have classes fo
 r all ages!
LAST-MODIFIED:20260422T222121
LOCATION:Shiloh Church of Christ
SUMMARY:Sunday Morning Worship
URL;VALUE=URI:https://shilohchurchofchrist.net/events/sunday-morning-worshi
 p/2026-08-23
END:VEVENT
END:VCALENDAR
