BEGIN:VCALENDAR
VERSION:2.0
PRODID:icalendar-ruby
CALSCALE:GREGORIAN
METHOD:PUBLISH
BEGIN:VEVENT
DTSTAMP:20260423T085139Z
UID:10-337798@shilohchurchofchrist.net
DTSTART:20260909T233000Z
DTEND:20260910T003000Z
CLASS:PUBLIC
CREATED:20260422T222121
DESCRIPTION:This is one of two mid-week bible studies we have.  The other 
 is on Wednesday morning at 10:00am.
LAST-MODIFIED:20260422T222121
LOCATION:Shiloh Church of Christ
SUMMARY:Wednesday Evening Bible Study
URL;VALUE=URI:https://shilohchurchofchrist.net/events/wednesday-evening-bib
 le-study/2026-09-09
END:VEVENT
END:VCALENDAR
