BEGIN:VCALENDAR
VERSION:2.0
PRODID:icalendar-ruby
CALSCALE:GREGORIAN
METHOD:PUBLISH
BEGIN:VEVENT
DTSTAMP:20260420T004258Z
UID:10-333344@shilohchurchofchrist.net
DTSTART:20260923T233000Z
DTEND:20260924T003000Z
CLASS:PUBLIC
CREATED:20260419T160222
DESCRIPTION:This is one of two mid-week bible studies we have.  The other 
 is on Wednesday morning at 10:00am.
LAST-MODIFIED:20260419T160222
LOCATION:Shiloh Church of Christ
SUMMARY:Wednesday Evening Bible Study
URL;VALUE=URI:https://shilohchurchofchrist.net/events/wednesday-evening-bib
 le-study/2026-09-23
END:VEVENT
END:VCALENDAR
