BEGIN:VCALENDAR
VERSION:2.0
PRODID:icalendar-ruby
CALSCALE:GREGORIAN
METHOD:PUBLISH
BEGIN:VEVENT
DTSTAMP:20260419T165814Z
UID:8-332811@shilohchurchofchrist.net
DTSTART:20260819T150000Z
DTEND:20260819T160000Z
CLASS:PUBLIC
CREATED:20260419T083801
DESCRIPTION:This is one of two mid-week bible studies we have on Wednesdays
 .  The other begins at 6:30pm.
LAST-MODIFIED:20260419T083801
LOCATION:Shiloh Church of Christ
SUMMARY:Wednesday Morning Bible Study
URL;VALUE=URI:https://shilohchurchofchrist.net/events/wednesday-morning-bib
 le-study/2026-08-19
END:VEVENT
END:VCALENDAR
