BEGIN:VCALENDAR
VERSION:2.0
PRODID:icalendar-ruby
CALSCALE:GREGORIAN
METHOD:PUBLISH
BEGIN:VEVENT
DTSTAMP:20260420T003913Z
UID:8-333237@shilohchurchofchrist.net
DTSTART:20260916T150000Z
DTEND:20260916T160000Z
CLASS:PUBLIC
CREATED:20260419T160222
DESCRIPTION:This is one of two mid-week bible studies we have on Wednesdays
 .  The other begins at 6:30pm.
LAST-MODIFIED:20260419T160222
LOCATION:Shiloh Church of Christ
SUMMARY:Wednesday Morning Bible Study
URL;VALUE=URI:https://shilohchurchofchrist.net/events/wednesday-morning-bib
 le-study/2026-09-16
END:VEVENT
END:VCALENDAR
